BEGIN:VCALENDAR
PRODID:-//kirchenweb.ch gmbh//veranstaltungsausgabe v2.0//DE
VERSION:2.0
METHOD:PUBLISH
BEGIN:VEVENT
DTSTART:20270120T073000Z
DTEND:20270120T083000Z
LOCATION:Kirche Oberdorf\, Unterdorfstrasse 8\, 8000 Oberdorf
TRANSP:OPAQUE
SEQUENCE:0
UID:982-veranstaltung@kirchenweb.info
DTSTAMP:20260419T011241Z
DESCRIPTION:Kontakt: Pfarrerin Anna Anderson\n\nWeitere Infos:
  https://www.kirchenweb.info/veranstaltung/982
SUMMARY:Seelsorgekurs
PRIORITY:5
X-MICROSOFT-CDO-IMPORTANCE:1
CLASS:PUBLIC
END:VEVENT
END:VCALENDAR
