BEGIN:VCALENDAR
PRODID:-//kirchenweb.ch gmbh//veranstaltungsausgabe v2.0//DE
VERSION:2.0
METHOD:PUBLISH
BEGIN:VEVENT
DTSTART:20270523T181500Z
DTEND:20270523T191500Z
LOCATION:Kirchgemeindehaus\, \,
TRANSP:OPAQUE
SEQUENCE:0
UID:97-veranstaltung@kirchenweb.info
DTSTAMP:20260419T011223Z
DESCRIPTION:Was glauben wir als Christen eigentlich? Dieser Kurs soll
  darauf Antworten geben.\n\nKontakt: Pfarrer Lorenz Lieberherr\n\nWeitere
  Infos: https://www.kirchenweb.info/veranstaltung/97
SUMMARY:Glaubenskurs (3. Teil)
PRIORITY:5
X-MICROSOFT-CDO-IMPORTANCE:1
CLASS:PUBLIC
END:VEVENT
END:VCALENDAR
