BEGIN:VCALENDAR
PRODID:-//kirchenweb.ch gmbh//veranstaltungsausgabe v2.0//DE
VERSION:2.0
METHOD:PUBLISH
BEGIN:VEVENT
DTSTART:20261230T150000Z
DTEND:20261230T180000Z
LOCATION:Kirchgemeindehaus\, Dorfstrasse 5\, 8000 Dorf
TRANSP:OPAQUE
SEQUENCE:0
UID:936-veranstaltung@kirchenweb.info
DTSTAMP:20260419T011248Z
DESCRIPTION:Kontakt: Pfarrerin Anna Anderson\n\nWeitere Infos:
  https://www.kirchenweb.info/veranstaltung/936
SUMMARY:Gottesdienst
PRIORITY:5
X-MICROSOFT-CDO-IMPORTANCE:1
CLASS:PUBLIC
END:VEVENT
END:VCALENDAR
