BEGIN:VCALENDAR
PRODID:-//kirchenweb.ch gmbh//veranstaltungsausgabe v2.0//DE
VERSION:2.0
METHOD:PUBLISH
BEGIN:VEVENT
DTSTART:20280102T090000Z
DTEND:20280102T100000Z
LOCATION:Kirche Oberdorf\, Unterdorfstrasse 8\, 8000 Oberdorf
TRANSP:OPAQUE
SEQUENCE:0
UID:914-veranstaltung@kirchenweb.info
DTSTAMP:20260419T011157Z
DESCRIPTION:Kontakt: werner.naef@kirchenweb.info\n\nWeitere Infos:
  https://www.kirchenweb.info/veranstaltung/914
SUMMARY:Gottesdienst
PRIORITY:5
X-MICROSOFT-CDO-IMPORTANCE:1
CLASS:PUBLIC
END:VEVENT
END:VCALENDAR
