BEGIN:VCALENDAR
PRODID:-//kirchenweb.ch gmbh//veranstaltungsausgabe v2.0//DE
VERSION:2.0
METHOD:PUBLISH
BEGIN:VEVENT
DTSTART:20270121T183000Z
DTEND:20270121T210000Z
LOCATION:Kirchgemeindehaus\, Dorfstrasse 5\, 8000 Dorf
TRANSP:OPAQUE
SEQUENCE:0
UID:873-veranstaltung@kirchenweb.info
DTSTAMP:20260419T011241Z
DESCRIPTION:Unterlagen: https://www.kirchenweb.info/kirchenpflege\n
 \nKontakt: KIVO Präsident Inese Inniger\n\nWeitere Infos:
  https://www.kirchenweb.info/veranstaltung/873
SUMMARY:Sitzung Kirchenpflege
PRIORITY:5
X-MICROSOFT-CDO-IMPORTANCE:1
CLASS:PUBLIC
END:VEVENT
END:VCALENDAR
