BEGIN:VCALENDAR
PRODID:-//kirchenweb.ch gmbh//veranstaltungsausgabe v2.0//DE
VERSION:2.0
METHOD:PUBLISH
BEGIN:VEVENT
DTSTART:20270615T113000Z
DTEND:20270615T123000Z
LOCATION:Kirchgemeindehaus\, \,
TRANSP:OPAQUE
SEQUENCE:0
UID:83-veranstaltung@kirchenweb.info
DTSTAMP:20260419T011220Z
DESCRIPTION:Ein spannender Nachmittag für Kinder der Unterstufe\n
 \nKontakt: Kids-Treff Elvira Ecknauer\n\nWeitere Infos:
  https://www.kirchenweb.info/veranstaltung/83
SUMMARY:Kids-Treff
PRIORITY:5
X-MICROSOFT-CDO-IMPORTANCE:1
CLASS:PUBLIC
END:VEVENT
END:VCALENDAR
