BEGIN:VCALENDAR
PRODID:-//kirchenweb.ch gmbh//veranstaltungsausgabe v2.0//DE
VERSION:2.0
METHOD:PUBLISH
BEGIN:VEVENT
DTSTART:20270216T123000Z
DTEND:20270216T133000Z
LOCATION:Kirchgemeindehaus\, \,
TRANSP:OPAQUE
SEQUENCE:0
UID:75-veranstaltung@kirchenweb.info
DTSTAMP:20260419T011235Z
DESCRIPTION:Ein spannender Nachmittag für Kinder der Unterstufe\n
 \nKontakt: Kids-Treff Elvira Ecknauer\n\nWeitere Infos:
  https://www.kirchenweb.info/veranstaltung/75
SUMMARY:Kids-Treff
PRIORITY:5
X-MICROSOFT-CDO-IMPORTANCE:1
CLASS:PUBLIC
END:VEVENT
END:VCALENDAR
