BEGIN:VCALENDAR
PRODID:-//kirchenweb.ch gmbh//veranstaltungsausgabe v2.0//DE
VERSION:2.0
METHOD:PUBLISH
BEGIN:VEVENT
DTSTART:20270704T070000Z
DTEND:20270704T080000Z
LOCATION:Kirchgemeindehaus\, \,
TRANSP:OPAQUE
SEQUENCE:0
UID:67-veranstaltung@kirchenweb.info
DTSTAMP:20260419T011217Z
DESCRIPTION:Frühlingslager der Sonntagsschule. \nMontag - Freitag\, 14. -
  18. April\nAlle Kinder vom kleinen Kindergarten bis zur fünften Klasse
  sind dazu eingeladen.\n\nKontakt: Sonntagsschule Florine Fabrizio\n
 \nWeitere Infos: https://www.kirchenweb.info/veranstaltung/67
SUMMARY:Sonntagsschul-Lager daheim (Ende)
PRIORITY:5
X-MICROSOFT-CDO-IMPORTANCE:1
CLASS:PUBLIC
END:VEVENT
END:VCALENDAR
