BEGIN:VCALENDAR
PRODID:-//kirchenweb.ch gmbh//veranstaltungsausgabe v2.0//DE
VERSION:2.0
METHOD:PUBLISH
BEGIN:VEVENT
DTSTART:20270610T173000Z
DTEND:20270610T183000Z
LOCATION:Kirchgemeindehaus\, \,
TRANSP:OPAQUE
SEQUENCE:0
UID:59-veranstaltung@kirchenweb.info
DTSTAMP:20260419T011221Z
DESCRIPTION:Ordentliche Kirchgemeindeversammlung.\nRechnungsgemeinde.\n
 \nKontakt: KIVO Präsident Inese Inniger\n\nWeitere Infos:
  https://www.kirchenweb.info/veranstaltung/59
SUMMARY:Kirchgemeindeversammlung
PRIORITY:5
X-MICROSOFT-CDO-IMPORTANCE:1
CLASS:PUBLIC
END:VEVENT
END:VCALENDAR
