BEGIN:VCALENDAR
PRODID:-//kirchenweb.ch gmbh//veranstaltungsausgabe v2.0//DE
VERSION:2.0
METHOD:PUBLISH
BEGIN:VEVENT
DTSTART:20270119T080000Z
DTEND:20270119T090000Z
LOCATION:Kirche Oberdorf\, \,
TRANSP:OPAQUE
SEQUENCE:0
UID:565-veranstaltung@kirchenweb.info
DTSTAMP:20260419T011241Z
DESCRIPTION:Kontakt: Pfarrerin Anna Anderson\n\nWeitere Infos:
  https://www.kirchenweb.info/veranstaltung/565
SUMMARY:Gottesdienst
PRIORITY:5
X-MICROSOFT-CDO-IMPORTANCE:1
CLASS:PUBLIC
END:VEVENT
END:VCALENDAR
