BEGIN:VCALENDAR
PRODID:-//kirchenweb.ch gmbh//veranstaltungsausgabe v2.0//DE
VERSION:2.0
METHOD:PUBLISH
BEGIN:VEVENT
DTSTART:20270509T074500Z
DTEND:20270509T084500Z
LOCATION:Kirche Unterdorf\, \,
TRANSP:OPAQUE
SEQUENCE:0
UID:50-veranstaltung@kirchenweb.info
DTSTAMP:20260419T011225Z
DESCRIPTION:Traditioneller Gottesdienst in der Evangelischen Kirche
  Unterdorf\n\nKontakt: Pfarrer Lorenz Lieberherr\n\nWeitere Infos:
  https://www.kirchenweb.info/veranstaltung/50
SUMMARY:Gottesdienst Unterdorf
PRIORITY:5
X-MICROSOFT-CDO-IMPORTANCE:1
CLASS:PUBLIC
END:VEVENT
END:VCALENDAR
