BEGIN:VCALENDAR
PRODID:-//kirchenweb.ch gmbh//veranstaltungsausgabe v2.0//DE
VERSION:2.0
METHOD:PUBLISH
BEGIN:VEVENT
DTSTART:20270221T160000Z
DTEND:20270221T170000Z
LOCATION:Evang. Kirche Oberdorf\, \,
TRANSP:OPAQUE
SEQUENCE:0
UID:432-veranstaltung@kirchenweb.info
DTSTAMP:20260419T011233Z
DESCRIPTION:Kontakt: Pfrn. Anna Anderson\n\nWeitere Infos:
  https://www.kirchenweb.info/veranstaltung/432
SUMMARY:Jugendgottesdienst - Abraham im Glück
PRIORITY:5
X-MICROSOFT-CDO-IMPORTANCE:1
CLASS:PUBLIC
END:VEVENT
END:VCALENDAR
