BEGIN:VCALENDAR
PRODID:-//kirchenweb.ch gmbh//veranstaltungsausgabe v2.0//DE
VERSION:2.0
METHOD:PUBLISH
BEGIN:VEVENT
DTSTART:20270103T160000Z
DTEND:20270103T170000Z
LOCATION:Evang. Kirche Oberdorf\, \,
TRANSP:OPAQUE
SEQUENCE:0
UID:429-veranstaltung@kirchenweb.info
DTSTAMP:20260419T011246Z
DESCRIPTION:Kontakt: Pfrn. Anna Anderson\n\nWeitere Infos:
  https://www.kirchenweb.info/veranstaltung/429
SUMMARY:Jugendgottesdienst - Abraham und die Sterne
PRIORITY:5
X-MICROSOFT-CDO-IMPORTANCE:1
CLASS:PUBLIC
END:VEVENT
END:VCALENDAR
