BEGIN:VCALENDAR
PRODID:-//kirchenweb.ch gmbh//veranstaltungsausgabe v2.0//DE
VERSION:2.0
METHOD:PUBLISH
BEGIN:VEVENT
DTSTART:20270501T073000Z
DTEND:20270501T083000Z
LOCATION:Kirche Oberdorf\, \,
TRANSP:OPAQUE
SEQUENCE:0
UID:38-veranstaltung@kirchenweb.info
DTSTAMP:20260419T011226Z
DESCRIPTION:Traditioneller Gottesdienst in der Evangelischen Kirche
  Oberdorf.\n\nKontakt: Pfarrerin Anna Anderson\n\nWeitere Infos:
  https://www.kirchenweb.info/veranstaltung/38
SUMMARY:Gottesdienst Oberdorf mit Voranmeldung und Covid-Zertifikat
PRIORITY:5
X-MICROSOFT-CDO-IMPORTANCE:1
CLASS:PUBLIC
END:VEVENT
END:VCALENDAR
