BEGIN:VCALENDAR
PRODID:-//kirchenweb.ch gmbh//veranstaltungsausgabe v2.0//DE
VERSION:2.0
METHOD:PUBLISH
BEGIN:VEVENT
DTSTART:20271024T073000Z
DTEND:20271024T083000Z
LOCATION:Kirche Unterdorf\, \,
TRANSP:OPAQUE
SEQUENCE:0
UID:298-veranstaltung@kirchenweb.info
DTSTAMP:20260419T011201Z
DESCRIPTION:Gottesdienst mit Abendmahl\n\nKontakt: Pfarrer Lorenz
  Lieberherr\n\nWeitere Infos:
  https://www.kirchenweb.info/veranstaltung/298
SUMMARY:Gottesdienst mit Abendmahl
PRIORITY:5
X-MICROSOFT-CDO-IMPORTANCE:1
CLASS:PUBLIC
END:VEVENT
END:VCALENDAR
