BEGIN:VCALENDAR
PRODID:-//kirchenweb.ch gmbh//veranstaltungsausgabe v2.0//DE
VERSION:2.0
METHOD:PUBLISH
BEGIN:VEVENT
DTSTART:20270608T040000Z
DTEND:20270608T050000Z
LOCATION:Waldlichtung Grenze\, \,
TRANSP:OPAQUE
SEQUENCE:0
UID:267-veranstaltung@kirchenweb.info
DTSTAMP:20260419T011221Z
DESCRIPTION:Ruhige Feier mit Gebet in der Waldlichtung Grenze.\n
 \nLeimatstr.11a\, Amriswil\n\nKontakt: Diakon Markus Meierhans\n\nWeitere
  Infos: https://www.kirchenweb.info/veranstaltung/267
SUMMARY:Sonnenaufgangsgebet
PRIORITY:5
X-MICROSOFT-CDO-IMPORTANCE:1
CLASS:PUBLIC
END:VEVENT
END:VCALENDAR
