BEGIN:VCALENDAR
PRODID:-//kirchenweb.ch gmbh//veranstaltungsausgabe v2.0//DE
VERSION:2.0
METHOD:PUBLISH
BEGIN:VEVENT
DTSTART:20270512T120000Z
DTEND:20270512T130000Z
LOCATION:Kirchgemeindehaus\, \,
TRANSP:OPAQUE
SEQUENCE:0
UID:265-veranstaltung@kirchenweb.info
DTSTAMP:20260419T011224Z
DESCRIPTION:Gemeinsames geselliges Zusammensein bei Kaffee und Kuchen.\n
 \nOrt: Romanshornerstr. 3\, Amriswil\n\nRomanshornerstr. 3\, Amriswil\n
 \nKontakt: claudia.zuellig\n\nWeitere Infos:
  https://www.kirchenweb.info/veranstaltung/265
SUMMARY:Seniorennachmittag
PRIORITY:5
X-MICROSOFT-CDO-IMPORTANCE:1
CLASS:PUBLIC
END:VEVENT
END:VCALENDAR
