BEGIN:VCALENDAR
PRODID:-//kirchenweb.ch gmbh//veranstaltungsausgabe v2.0//DE
VERSION:2.0
METHOD:PUBLISH
BEGIN:VEVENT
DTSTART:20270421T113000Z
DTEND:20270421T123000Z
LOCATION:Amriswil\, Grundstr. 8 a\, \,
TRANSP:OPAQUE
SEQUENCE:0
UID:263-veranstaltung@kirchenweb.info
DTSTAMP:20260419T011228Z
DESCRIPTION:Gartenparty\n\n Grundstr. 8 a\, Amriswil \n\nKontakt:
  Hanspeter Klarer\n\nWeitere Infos:
  https://www.kirchenweb.info/veranstaltung/263
SUMMARY:Geburtstagsfest
PRIORITY:5
X-MICROSOFT-CDO-IMPORTANCE:1
CLASS:PUBLIC
END:VEVENT
END:VCALENDAR
