BEGIN:VCALENDAR
PRODID:-//kirchenweb.ch gmbh//veranstaltungsausgabe v2.0//DE
VERSION:2.0
METHOD:PUBLISH
BEGIN:VEVENT
DTSTART:20270619T180000Z
DTEND:20270619T190000Z
LOCATION:Kirchgemeindehaus\, \,
TRANSP:OPAQUE
SEQUENCE:0
UID:262-veranstaltung@kirchenweb.info
DTSTAMP:20260419T011219Z
DESCRIPTION:Alle ehrenamtlichen Mitarbeiter der Kirchgemeinde sind
  herzlich eingeladen!\nOrt:Kirchgemeindehaus Amriswil
 \nRomanshornerstrasse17\, 8580 Amriswil\n\n\nKontakt: Pfarrer Lorenz
  Lieberherr\n\nWeitere Infos:
  https://www.kirchenweb.info/veranstaltung/262
SUMMARY:Mitarbeiterabend
PRIORITY:5
X-MICROSOFT-CDO-IMPORTANCE:1
CLASS:PUBLIC
END:VEVENT
END:VCALENDAR
