BEGIN:VCALENDAR
PRODID:-//kirchenweb.ch gmbh//veranstaltungsausgabe v2.0//DE
VERSION:2.0
METHOD:PUBLISH
BEGIN:VEVENT
DTSTART:20270819T150000Z
DTEND:20270819T160000Z
LOCATION:Kirche Oberdorf\, \,
TRANSP:OPAQUE
SEQUENCE:0
UID:238-veranstaltung@kirchenweb.info
DTSTAMP:20260419T011209Z
DESCRIPTION:Ein Gottesdienst für Eltern mit ihren Kleinkindern von 2 bis
  5 Jahren.\n\nKontakt: Kids-Treff Elvira Ecknauer\n\nWeitere Infos:
  https://www.kirchenweb.info/veranstaltung/238
SUMMARY:Chinderchile - Herbstnebel verzaubert
PRIORITY:5
X-MICROSOFT-CDO-IMPORTANCE:1
CLASS:PUBLIC
END:VEVENT
END:VCALENDAR
