BEGIN:VCALENDAR
PRODID:-//kirchenweb.ch gmbh//veranstaltungsausgabe v2.0//DE
VERSION:2.0
METHOD:PUBLISH
BEGIN:VEVENT
DTSTART:20270626T150000Z
DTEND:20270626T160000Z
LOCATION:Kirche Oberdorf\, \,
TRANSP:OPAQUE
SEQUENCE:0
UID:236-veranstaltung@kirchenweb.info
DTSTAMP:20260419T011218Z
DESCRIPTION:Ein Gottesdienst für Eltern mit ihren Kleinkindern von 2 bis
  5 Jahren.\n\nKontakt: Kids-Treff Elvira Ecknauer\n\nWeitere Infos:
  https://www.kirchenweb.info/veranstaltung/236
SUMMARY:Chinderchile - wer hatte schöne Ferien
PRIORITY:5
X-MICROSOFT-CDO-IMPORTANCE:1
CLASS:PUBLIC
END:VEVENT
END:VCALENDAR
