BEGIN:VCALENDAR
PRODID:-//kirchenweb.ch gmbh//veranstaltungsausgabe v2.0//DE
VERSION:2.0
METHOD:PUBLISH
BEGIN:VEVENT
DTSTART:20270410T150000Z
DTEND:20270410T160000Z
LOCATION:Kirche Oberdorf\, \,
TRANSP:OPAQUE
SEQUENCE:0
UID:234-veranstaltung@kirchenweb.info
DTSTAMP:20260419T011230Z
DESCRIPTION:Ein Gottesdienst für Eltern mit ihren Kleinkindern von 2 bis
  5 Jahren.\n\nKontakt: Kids-Treff Elvira Ecknauer\n\nWeitere Infos:
  https://www.kirchenweb.info/veranstaltung/234
SUMMARY:Chinderchile - wenn die Rosen blühen
PRIORITY:5
X-MICROSOFT-CDO-IMPORTANCE:1
CLASS:PUBLIC
END:VEVENT
END:VCALENDAR
