BEGIN:VCALENDAR
PRODID:-//kirchenweb.ch gmbh//veranstaltungsausgabe v2.0//DE
VERSION:2.0
METHOD:PUBLISH
BEGIN:VEVENT
DTSTART:20390706T173000Z
DTEND:20390706T183000Z
LOCATION:Jugendhaus\, \,
TRANSP:OPAQUE
SEQUENCE:0
UID:213-veranstaltung@kirchenweb.info
DTSTAMP:20260419T011139Z
DESCRIPTION:Es gibt was gutes zum Essen\, wenn alle beim Kochen helfen.\n
 \nburgstrasse 104\,9000 St. Gallen\n\nBurgstrasse 104\, 9000 St. Gallen\n
 \nAnna\,Anderson\n\n [Die Liste der Adressgruppe "kirchenvorsteherschaft"
  kann hier nicht angezeigt werden.] \n\n\nKontakt: Pfarrerin Anna Anderson
 \n\nWeitere Infos: https://www.kirchenweb.info/veranstaltung/213
SUMMARY:Kochkurs
PRIORITY:5
X-MICROSOFT-CDO-IMPORTANCE:1
CLASS:PUBLIC
END:VEVENT
END:VCALENDAR
