BEGIN:VCALENDAR
PRODID:-//kirchenweb.ch gmbh//veranstaltungsausgabe v2.0//DE
VERSION:2.0
METHOD:PUBLISH
BEGIN:VEVENT
DTSTART:20261215T191500Z
DTEND:20261215T201500Z
LOCATION:Kirche Unterdorf\, \,
TRANSP:OPAQUE
SEQUENCE:0
UID:205-veranstaltung@kirchenweb.info
DTSTAMP:20260419T011252Z
DESCRIPTION:Ländlermusik auf der Orgel - eine Freude und ein Wagnis
  zugleich. Unser Organist Peter Pfister wagt die Herausforderung\, zu der
  Sie herzlich eingeladen sind.\n\nKontakt: Organist Peter Pfister\n
 \nWeitere Infos: https://www.kirchenweb.info/veranstaltung/205
SUMMARY:Ländlermusik auf der Orgel
PRIORITY:5
X-MICROSOFT-CDO-IMPORTANCE:1
CLASS:PUBLIC
END:VEVENT
END:VCALENDAR
