BEGIN:VCALENDAR
PRODID:-//kirchenweb.ch gmbh//veranstaltungsausgabe v2.0//DE
VERSION:2.0
METHOD:PUBLISH
BEGIN:VEVENT
DTSTART:20270221T191500Z
DTEND:20270221T201500Z
LOCATION:Kirchgemeindehaus\, \,
TRANSP:OPAQUE
SEQUENCE:0
UID:178-veranstaltung@kirchenweb.info
DTSTAMP:20260419T011233Z
DESCRIPTION:Das Alter bringt spezifische Krankheiten mit sich. Bei den
  einen kann man vorbeugen. Bei andern nicht. Wie man gesund altern kann\,
  trägt ihnen Frau Dr. med. Gisela Gugler in drei Vortragsabenden mit.\n
 \nKontakt: Pfarrerin Anna Anderson\n\nWeitere Infos:
  https://www.kirchenweb.info/veranstaltung/178
SUMMARY:Vortragsreihe: Krankheiten im Alter
PRIORITY:5
X-MICROSOFT-CDO-IMPORTANCE:1
CLASS:PUBLIC
END:VEVENT
END:VCALENDAR
