BEGIN:VCALENDAR
PRODID:-//kirchenweb.ch gmbh//veranstaltungsausgabe v2.0//DE
VERSION:2.0
METHOD:PUBLISH
BEGIN:VEVENT
DTSTART:20270630T181500Z
DTEND:20270630T191500Z
LOCATION:Kirchgemeindehaus\, \,
TRANSP:OPAQUE
SEQUENCE:0
UID:176-veranstaltung@kirchenweb.info
DTSTAMP:20260419T011218Z
DESCRIPTION:Heute will niemand älter werden. Aber trotzdem schreiten
  unsere Lebensjahre unaufhaltsam vorwärts. Wie kann man sich auf das
  Älterwerden einstellen? Wie soll man seine Pensionierung planen? Eine
  Vortragsreihe von Kuno Kerbeis gibt in 5 Vortragsabenden darüber
  auskunft.\n\nKontakt: Samuel Steffen\n\nWeitere Infos:
  https://www.kirchenweb.info/veranstaltung/176
SUMMARY:Vortragsreihe: Älter werden aber wie?
PRIORITY:5
X-MICROSOFT-CDO-IMPORTANCE:1
CLASS:PUBLIC
END:VEVENT
END:VCALENDAR
