BEGIN:VCALENDAR
PRODID:-//kirchenweb.ch gmbh//veranstaltungsausgabe v2.0//DE
VERSION:2.0
METHOD:PUBLISH
BEGIN:VEVENT
DTSTART:20270525T070000Z
DTEND:20270525T080000Z
LOCATION:Unterwegs mit dem Reisecar\, \,
TRANSP:OPAQUE
SEQUENCE:0
UID:163-veranstaltung@kirchenweb.info
DTSTAMP:20260419T011222Z
DESCRIPTION:Die diesjährige Seniorenreise führt uns an den Bodensee.
  Zuerst begrüsst uns Meersburg mit einem aromatischen Kaffee. Nach einer
  kurzen Stadtbesichtigung geht es weiter auf die Insel Mainau. Im
  Blumenmeer geniessen wir dann auch unser Mittagessen. Die Rückfahrt
  führt uns rund um den Bodensee.\n\nKontakt: Pfarrer Lorenz Lieberherr\n
 \nWeitere Infos: https://www.kirchenweb.info/veranstaltung/163
SUMMARY:Seniorenreise
PRIORITY:5
X-MICROSOFT-CDO-IMPORTANCE:1
CLASS:PUBLIC
END:VEVENT
END:VCALENDAR
