BEGIN:VCALENDAR
PRODID:-//kirchenweb.ch gmbh//veranstaltungsausgabe v2.0//DE
VERSION:2.0
METHOD:PUBLISH
BEGIN:VEVENT
DTSTART:20270726T171500Z
DTEND:20270726T181500Z
LOCATION:Kirchgemeindehaus\, Dorfstrasse 5\, 8000 Dorf
TRANSP:OPAQUE
SEQUENCE:0
UID:1598-veranstaltung@kirchenweb.info
DTSTAMP:20260419T011214Z
DESCRIPTION:Die Bibel bietet genug Stoff für eine ganze Krimi-Serie. Wir
  lösen einige knifflige Fälle und gehen biblischen Verbrechen auf die
  Spur. Denn auch die Heilige Schrift ist nicht vor Mord und Totschlag
  gefeit!\n\nKontakt: Bernhard Nauli\n\nWeitere Infos:
  https://www.kirchenweb.info/veranstaltung/1598
SUMMARY:Kurs - Bibelkrimi
PRIORITY:5
X-MICROSOFT-CDO-IMPORTANCE:1
CLASS:PUBLIC
END:VEVENT
END:VCALENDAR
