BEGIN:VCALENDAR
PRODID:-//kirchenweb.ch gmbh//veranstaltungsausgabe v2.0//DE
VERSION:2.0
METHOD:PUBLISH
BEGIN:VEVENT
DTSTART:20270919T150000Z
DTEND:20270919T154500Z
LOCATION:Kirche Oberdorf\, \,
TRANSP:OPAQUE
SEQUENCE:0
UID:1591-veranstaltung@kirchenweb.info
DTSTAMP:20260419T011206Z
DESCRIPTION:Kontakt: Diakon Markus Meierhans\n\nWeitere Infos:
  https://www.kirchenweb.info/veranstaltung/1591
SUMMARY:Fiire mit de Chliine
PRIORITY:5
X-MICROSOFT-CDO-IMPORTANCE:1
CLASS:PUBLIC
END:VEVENT
END:VCALENDAR
