BEGIN:VCALENDAR
PRODID:-//kirchenweb.ch gmbh//veranstaltungsausgabe v2.0//DE
VERSION:2.0
METHOD:PUBLISH
BEGIN:VEVENT
DTSTART:20270701T120000Z
DTEND:20270701T130000Z
LOCATION:Kirchgemeindehaus\, \,
TRANSP:OPAQUE
SEQUENCE:0
UID:159-veranstaltung@kirchenweb.info
DTSTAMP:20260419T011217Z
DESCRIPTION:Ein gemütliches Zusammensein im Kreise von Senioren sollen
  diese Seniorennachmittage sein.\n\nKontakt: Pfarrer Lorenz Lieberherr\n
 \nWeitere Infos: https://www.kirchenweb.info/veranstaltung/159
SUMMARY:Seniorennachmittag
PRIORITY:5
X-MICROSOFT-CDO-IMPORTANCE:1
CLASS:PUBLIC
END:VEVENT
END:VCALENDAR
