BEGIN:VCALENDAR
PRODID:-//kirchenweb.ch gmbh//veranstaltungsausgabe v2.0//DE
VERSION:2.0
METHOD:PUBLISH
BEGIN:VEVENT
DTSTART:20270618T080000Z
DTEND:20270618T090000Z
LOCATION:Kirche Unterdorf\, Friedhofweg 1\, 8000 Unterdorf
TRANSP:OPAQUE
SEQUENCE:0
UID:1553-veranstaltung@kirchenweb.info
DTSTAMP:20260419T011219Z
DESCRIPTION:Für Kinder ab dem 3. Lebenjahr mit ihren Eltern.\n\nKontakt:
  Sonntagsschule Florine Fabrizio\n\nWeitere Infos:
  https://www.kirchenweb.info/veranstaltung/1553
SUMMARY:Kinderkirche
PRIORITY:5
X-MICROSOFT-CDO-IMPORTANCE:1
CLASS:PUBLIC
END:VEVENT
END:VCALENDAR
