BEGIN:VCALENDAR
PRODID:-//kirchenweb.ch gmbh//veranstaltungsausgabe v2.0//DE
VERSION:2.0
METHOD:PUBLISH
BEGIN:VEVENT
DTSTART:20270501T100000Z
DTEND:20270501T120000Z
LOCATION:Kirche Unterdorf\, Friedhofweg 1\, 8000 Unterdorf
TRANSP:OPAQUE
SEQUENCE:0
UID:1507-veranstaltung@kirchenweb.info
DTSTAMP:20260419T011226Z
DESCRIPTION:Kontakt: Diakon Markus Meierhans\n\nWeitere Infos:
  https://www.kirchenweb.info/veranstaltung/1507
SUMMARY:Jugendtreff
PRIORITY:5
X-MICROSOFT-CDO-IMPORTANCE:1
CLASS:PUBLIC
END:VEVENT
END:VCALENDAR
