BEGIN:VCALENDAR
PRODID:-//kirchenweb.ch gmbh//veranstaltungsausgabe v2.0//DE
VERSION:2.0
METHOD:PUBLISH
BEGIN:VEVENT
DTSTART:20270424T120000Z
DTEND:20270424T150000Z
LOCATION:Kirche Oberdorf\, Unterdorfstrasse 8\, 8000 Oberdorf
TRANSP:OPAQUE
SEQUENCE:0
UID:1478-veranstaltung@kirchenweb.info
DTSTAMP:20260419T011227Z
DESCRIPTION:Kontakt: Diakon Markus Meierhans\n\nWeitere Infos:
  https://www.kirchenweb.info/veranstaltung/1478
SUMMARY:Jungwacht
PRIORITY:5
X-MICROSOFT-CDO-IMPORTANCE:1
CLASS:PUBLIC
END:VEVENT
END:VCALENDAR
