BEGIN:VCALENDAR
PRODID:-//kirchenweb.ch gmbh//veranstaltungsausgabe v2.0//DE
VERSION:2.0
METHOD:PUBLISH
BEGIN:VEVENT
DTSTART:20270508T080000Z
DTEND:20270508T083000Z
LOCATION:Kirche Oberdorf\, Unterdorfstrasse 8\, 8000 Oberdorf
TRANSP:OPAQUE
SEQUENCE:0
UID:1454-veranstaltung@kirchenweb.info
DTSTAMP:20260419T011225Z
DESCRIPTION:Veranstaltungen können näher umschrieben werden. Der
  Texteditor unterstützt Sie dabei (grauer Balken über dem Feld).
  Markieren Sie dazu den Text und klicken auf das entsprechende Symbol.\n
 \nKontakt: Diakon Markus Meierhans\n\nWeitere Infos:
  https://www.kirchenweb.info/veranstaltung/1454
SUMMARY:Fiire mit de Chliine - Sommer
PRIORITY:5
X-MICROSOFT-CDO-IMPORTANCE:1
CLASS:PUBLIC
END:VEVENT
END:VCALENDAR
