BEGIN:VCALENDAR
PRODID:-//kirchenweb.ch gmbh//veranstaltungsausgabe v2.0//DE
VERSION:2.0
METHOD:PUBLISH
BEGIN:VEVENT
DTSTART:20251112T130000Z
DTEND:20251112T150000Z
LOCATION:Kirche Unterdorf\, Friedhofweg 1\, 8000 Unterdorf
TRANSP:OPAQUE
SEQUENCE:0
UID:1374-veranstaltung@kirchenweb.info
DTSTAMP:20260422T011136Z
DESCRIPTION:Kontakt: Pfarrerin Anna Anderson\n\nWeitere Infos:
  https://www.kirchenweb.info/veranstaltung/1374
SUMMARY:Reformation
PRIORITY:5
X-MICROSOFT-CDO-IMPORTANCE:1
CLASS:PUBLIC
END:VEVENT
END:VCALENDAR
