BEGIN:VCALENDAR
PRODID:-//kirchenweb.ch gmbh//veranstaltungsausgabe v2.0//DE
VERSION:2.0
METHOD:PUBLISH
BEGIN:VEVENT
DTSTART:20260724T171500Z
DTEND:20260724T181500Z
LOCATION:Kirchgemeindehaus\, Dorfstrasse 5\, 8000 Dorf
TRANSP:OPAQUE
SEQUENCE:0
UID:1359-veranstaltung@kirchenweb.info
DTSTAMP:20260419T011254Z
DESCRIPTION:Wir beschäftigen uns mit den Themen Sex\, Freundschaft und
  Ehe. Auf welches Fundament möchten wir unser Beziehungs-Leben aufbauen?
  Was sind mögliche Auswirkungen?\n\nKontakt: Werner Näf\n\nWeitere
  Infos: https://www.kirchenweb.info/veranstaltung/1359
SUMMARY:Kurs - Sex / Freundschaft / Ehe
PRIORITY:5
X-MICROSOFT-CDO-IMPORTANCE:1
CLASS:PUBLIC
END:VEVENT
END:VCALENDAR
