BEGIN:VCALENDAR
PRODID:-//kirchenweb.ch gmbh//veranstaltungsausgabe v2.0//DE
VERSION:2.0
METHOD:PUBLISH
BEGIN:VEVENT
DTSTART:20270523T180000Z
DTEND:20270523T190000Z
LOCATION:Kirchgemeindehaus\, \,
TRANSP:OPAQUE
SEQUENCE:0
UID:133-veranstaltung@kirchenweb.info
DTSTAMP:20260419T011223Z
DESCRIPTION:Immer wieder begeistern die Konzerte unserer Jugendlichen
  Gross und Klein. Das dritte und letzte Konzert ist im Kirchgemeindehaus.
 \n\nKontakt: Jugendchor Gudrun Gantenbein\n\nWeitere Infos:
  https://www.kirchenweb.info/veranstaltung/133
SUMMARY:Jugendchor Konzert
PRIORITY:5
X-MICROSOFT-CDO-IMPORTANCE:1
CLASS:PUBLIC
END:VEVENT
END:VCALENDAR
