BEGIN:VCALENDAR
PRODID:-//kirchenweb.ch gmbh//veranstaltungsausgabe v2.0//DE
VERSION:2.0
METHOD:PUBLISH
BEGIN:VEVENT
DTSTART:20260512T171500Z
DTEND:20260512T181500Z
LOCATION:Kirchgemeindehaus\, Dorfstrasse 5\, 8000 Dorf
TRANSP:OPAQUE
SEQUENCE:0
UID:1323-veranstaltung@kirchenweb.info
DTSTAMP:20260421T074426Z
DESCRIPTION:Kontakt: Bernhard Nauli\n\nWeitere Infos:
  https://www.kirchenweb.info/veranstaltung/1323
SUMMARY:Kurs - Auf den Spuren von Jesus
PRIORITY:5
X-MICROSOFT-CDO-IMPORTANCE:1
CLASS:PUBLIC
END:VEVENT
END:VCALENDAR
