BEGIN:VCALENDAR
PRODID:-//kirchenweb.ch gmbh//veranstaltungsausgabe v2.0//DE
VERSION:2.0
METHOD:PUBLISH
BEGIN:VEVENT
DTSTART:20271024T130000Z
DTEND:20271024T150000Z
LOCATION:Kirche Oberdorf\, Unterdorfstrasse 8\, 8000 Oberdorf
TRANSP:OPAQUE
SEQUENCE:0
UID:1288-veranstaltung@kirchenweb.info
DTSTAMP:20260419T011201Z
DESCRIPTION:Kontakt: kirchenweb.service@kirchenweb.info\n\nWeitere Infos:
  https://www.kirchenweb.info/veranstaltung/1288
SUMMARY:Senioren Kaffee
PRIORITY:5
X-MICROSOFT-CDO-IMPORTANCE:1
CLASS:PUBLIC
END:VEVENT
END:VCALENDAR
