BEGIN:VCALENDAR
PRODID:-//kirchenweb.ch gmbh//veranstaltungsausgabe v2.0//DE
VERSION:2.0
METHOD:PUBLISH
BEGIN:VEVENT
DTSTART:20270410T113000Z
DTEND:20270410T123000Z
LOCATION:Kirchgemeindehaus\, \,
TRANSP:OPAQUE
SEQUENCE:0
UID:120-veranstaltung@kirchenweb.info
DTSTAMP:20260419T011229Z
DESCRIPTION:Kinder und Jugendliche treffen sich zu einem abenteuerlichen
  Nachmittag. Spiel\, Spass\, Spannung\, Abenteuer\, biblische Geschichten.
 \n\nKontakt: Diakon Markus Meierhans\n\nWeitere Infos:
  https://www.kirchenweb.info/veranstaltung/120
SUMMARY:Jungschar und Ameisli
PRIORITY:5
X-MICROSOFT-CDO-IMPORTANCE:1
CLASS:PUBLIC
END:VEVENT
END:VCALENDAR
