BEGIN:VCALENDAR
PRODID:-//kirchenweb.ch gmbh//veranstaltungsausgabe v2.0//DE
VERSION:2.0
METHOD:PUBLISH
BEGIN:VEVENT
DTSTART:20270612T180000Z
DTEND:20270612T190000Z
LOCATION:Kirchgemeindehaus\, \,
TRANSP:OPAQUE
SEQUENCE:0
UID:113-veranstaltung@kirchenweb.info
DTSTAMP:20260419T011220Z
DESCRIPTION:Jugendliche\, welche die Unterrichtszeit hinter sich haben\,
  treffen sich zum Austausch\, Spiel und Themen des Glaubens.\n\nKontakt:
  Diakon Markus Meierhans\n\nWeitere Infos:
  https://www.kirchenweb.info/veranstaltung/113
SUMMARY:Jugendgruppe
PRIORITY:5
X-MICROSOFT-CDO-IMPORTANCE:1
CLASS:PUBLIC
END:VEVENT
END:VCALENDAR
