BEGIN:VCALENDAR
PRODID:-//kirchenweb.ch gmbh//veranstaltungsausgabe v2.0//DE
VERSION:2.0
METHOD:PUBLISH
BEGIN:VEVENT
DTSTART:20280408T080000Z
DTEND:20280408T140000Z
LOCATION:Skigebiet Grüsch Danusa (GR)\, Sand 121\, 7214 Grüsch
TRANSP:OPAQUE
SEQUENCE:0
UID:1102-veranstaltung@kirchenweb.info
DTSTAMP:20260419T011144Z
DESCRIPTION:Kontakt: Tobias Tanner\n\nWeitere Infos:
  https://www.kirchenweb.info/veranstaltung/1102
SUMMARY:Skitag für Teenies
PRIORITY:5
X-MICROSOFT-CDO-IMPORTANCE:1
CLASS:PUBLIC
END:VEVENT
END:VCALENDAR
