BEGIN:VCALENDAR
PRODID:-//kirchenweb.ch gmbh//veranstaltungsausgabe v2.0//DE
VERSION:2.0
METHOD:PUBLISH
BEGIN:VEVENT
DTSTART:20280108T090000Z
DTEND:20280108T150000Z
LOCATION:Skigebiet Grüsch Danusa (GR)\, Sand 121\, 7214 Grüsch
TRANSP:OPAQUE
SEQUENCE:0
UID:1096-veranstaltung@kirchenweb.info
DTSTAMP:20260419T011156Z
DESCRIPTION:Kontakt: Tobias Tanner\n\nWeitere Infos:
  https://www.kirchenweb.info/veranstaltung/1096
SUMMARY:Skitag für Teenies
PRIORITY:5
X-MICROSOFT-CDO-IMPORTANCE:1
CLASS:PUBLIC
END:VEVENT
END:VCALENDAR
